BEGIN:VCALENDAR
VERSION:2.0
PRODID:-//Plone.org//NONSGML plone.app.event//EN
X-WR-TIMEZONE:US/Central
BEGIN:VEVENT
SUMMARY:Adult Inclusion Craft @ Marshfield
DTSTART;TZID=US/Central:20260428T100000
DTEND;TZID=US/Central:20260428T110000
DTSTAMP:20260419T161734Z
UID:fbaf80e380864c2489ac5ad36384707c@saas_stack_varnish:6080
ATTENDEE;CN="Adults 18 + Only";ROLE=REQ-PARTICIPANT:Adults 18 + Only
CATEGORIES:Marshfield Adult,Marshfield Location
CONTACT:Marshfield Staff\, 417-468-3335\, marinfo@webstercountylibrary.org
CREATED:20260325T162257Z
LAST-MODIFIED:20260325T163440Z
LOCATION:Webster County Library - Garst Memorial Library 219 W Jackson St
URL:https://webster.ploud.net/calendar-news/events/adult-inclusion-craft-m
 arshfield-20
END:VEVENT
BEGIN:VEVENT
SUMMARY:Lego Super Saturday @ Marshfield
DTSTART;TZID=US/Central:20260509T133000
DTEND;TZID=US/Central:20260509T150000
DTSTAMP:20260419T161734Z
UID:e64e1bc15e5b4613838765682af69bed@saas_stack_varnish:6080
RRULE:FREQ=MONTHLY;UNTIL=20231130T000000;BYDAY=+1SA
EXDATE;TZID=US/Central:20230722T000000,20230826T000000,20230902T000000,202
 31007T000000,20231028T000000,20231104T000000,20231125T000000,20240127T0000
 00
ATTENDEE;CN="All Ages";ROLE=REQ-PARTICIPANT:All Ages
CATEGORIES:Marshfield Location,Marshfield Youth
CONTACT:Marshfield Library\, 417-468-3335\, marinfo@webstercountylibrary.o
 rg
CREATED:20230728T160410Z
LAST-MODIFIED:20260407T181400Z
LOCATION:Webster County Library - Garst Memorial Library 219 W Jackson St.
URL:https://webster.ploud.net/calendar-news/events/lego-super-saturday-mar
 shfield
END:VEVENT
BEGIN:VEVENT
SUMMARY:Toddler Time @ Marshfield
DTSTART;TZID=US/Central:20260421T100000
DTEND;TZID=US/Central:20260421T110000
DTSTAMP:20260419T161734Z
UID:f5e52d5df1bd45d9a6c44cdddcfcc56b@saas_stack_varnish:6080
RRULE:FREQ=MONTHLY;UNTIL=20260530T000000;INTERVAL=2;BYDAY=+1TU
EXDATE;TZID=US/Central:20251001T000000,20251023T000000
ATTENDEE;CN="Ages 0 - 36 months old";ROLE=REQ-PARTICIPANT:Ages 0 - 36 mont
 hs old
CATEGORIES:Marshfield Location,Marshfield Youth
CONTACT:Marshfield Staff\, 417-468-3335\, marinfo@webstercountylibrary.org
CREATED:20250821T213501Z
LAST-MODIFIED:20260407T173039Z
LOCATION:Webster County Library - Garst Memorial Library 219 W Jackson St
URL:https://webster.ploud.net/calendar-news/events/toddler-time-marshfield
END:VEVENT
BEGIN:VEVENT
SUMMARY:Forget Me Not Minders @ Marshfield
DTSTART;TZID=US/Central:20260428T130000
DTEND;TZID=US/Central:20260428T140000
DTSTAMP:20260419T161734Z
UID:01f1189a8e6a47d890ba58f29ca39b1b@saas_stack_varnish:6080
RRULE:FREQ=MONTHLY;UNTIL=20260530T000000;BYDAY=+4TU
ATTENDEE;CN="Adults 18+ Only";ROLE=REQ-PARTICIPANT:Adults 18+ Only
CATEGORIES:Marshfield Adult,Marshfield Location
CONTACT:Marshfield Staff\, 417-468-3335\, marinfo@webstercountylibrary.org
CREATED:20260305T184405Z
LAST-MODIFIED:20260407T173343Z
LOCATION:Webster County Library - Garst Memorial Library 219 W Jackson St
URL:https://webster.ploud.net/calendar-news/events/forget-me-not-minders-m
 arshfield
END:VEVENT
BEGIN:VEVENT
SUMMARY:Homeschool Social Time @ Marshfield
DTSTART;TZID=US/Central:20260513T140000
DTEND;TZID=US/Central:20260513T150000
DTSTAMP:20260419T161734Z
UID:128c5736bd9c4244891c0addc156f069@saas_stack_varnish:6080
RRULE:FREQ=MONTHLY;UNTIL=20260601T000000;BYDAY=+2WE
EXDATE;TZID=US/Central:20260408T000000,20260520T000000,20260617T000000
ATTENDEE;CN="Ages 7 - 17";ROLE=REQ-PARTICIPANT:Ages 7 - 17
CATEGORIES:Marshfield Location,Marshfield Youth
CONTACT:Marshfield Staff\, 417-468-3335\, marinfo@webstercountylibrary.org
CREATED:20260219T200057Z
LAST-MODIFIED:20260414T170446Z
LOCATION:Webster County Library - Garst Memorial Library 219 W Jackson St
URL:https://webster.ploud.net/calendar-news/events/homeschool-social-time-
 marshfield
END:VEVENT
BEGIN:VEVENT
SUMMARY:Teen Craft @ Marshfield
DTSTART;TZID=US/Central:20260420T140000
DTEND;TZID=US/Central:20260420T150000
DTSTAMP:20260419T161734Z
UID:da0e46eaf90847618f90dfca12b97929@saas_stack_varnish:6080
ATTENDEE;CN="Ages 13 - 17";ROLE=REQ-PARTICIPANT:Ages 13 - 17
CATEGORIES:Marshfield Location,Marshfield Youth
CONTACT:Marshfield Staff\, 417-468-3335\, marinfo@webstercountylibrary.org
CREATED:20260320T133418Z
LAST-MODIFIED:20260325T161812Z
LOCATION:Webster County Library - Garst Memorial Library 219 W Jackson St
URL:https://webster.ploud.net/calendar-news/events/teen-craft-marshfield-1
 2
END:VEVENT
BEGIN:VEVENT
SUMMARY:Preschool Storytime @ Marshfield
DTSTART;TZID=US/Central:20260420T100000
DTEND;TZID=US/Central:20260420T110000
DTSTAMP:20260419T161734Z
UID:67259b47222945f58ac130cdd40852bf@saas_stack_varnish:6080
RRULE:FREQ=WEEKLY;UNTIL=20261231T000000;BYDAY=MO,WE
EXDATE;TZID=US/Central:20250901T000000,20251013T000000,20251022T000000,202
 51027T000000,20251029T000000,20251124T000000,20251126T000000,20251215T0000
 00,20251217T000000,20251222T000000,20251224T000000,20251229T000000,2025123
 1T000000,20260119T000000,20260216T000000,20260406T000000,20260525T000000,2
 0260907T000000,20261012T000000,20261111T000000
ATTENDEE;CN="Ages Birth to 6";ROLE=REQ-PARTICIPANT:Ages Birth to 6
CATEGORIES:Marshfield Location,Marshfield Youth,Marshfield 2026
CONTACT:Marshfield Staff\, 417-468-3335\, marinfo@webstercountylibrary.org
CREATED:20250709T162559Z
LAST-MODIFIED:20260325T160932Z
LOCATION:Webster County Library - Garst Memorial Library 219 W Jackson St
URL:https://webster.ploud.net/calendar-news/events/preschool-storytime-mar
 shfield-1
END:VEVENT
BEGIN:VEVENT
SUMMARY:Adult Crochet Basics @ Marshfield
DTSTART;TZID=US/Central:20260423T100000
DTEND;TZID=US/Central:20260423T110000
DTSTAMP:20260419T161734Z
UID:840428463ca940468bbc6edfc190f071@saas_stack_varnish:6080
RRULE:FREQ=WEEKLY;UNTIL=20261231T000000;BYDAY=TH
EXDATE;TZID=US/Central:20251127T000000,20251225T000000,20260101T000000,202
 61126T000000,20261224T000000,20261231T000000
ATTENDEE;CN="Adult 18+ Only";ROLE=REQ-PARTICIPANT:Adult 18+ Only
CATEGORIES:Marshfield Location,Marshfield Adult
CONTACT:Marshfield Staff\, 417-468-3335\, marinfo@webstercountylibrary.org
CREATED:20250703T185328Z
LAST-MODIFIED:20260304T212819Z
LOCATION:Webster County Library - Garst Memorial Library 219 W Jackson St
URL:https://webster.ploud.net/calendar-news/events/adult-crochet-basics-ma
 rshfield
END:VEVENT
BEGIN:VTIMEZONE
TZID:US/Central
X-LIC-LOCATION:US/Central
BEGIN:DAYLIGHT
DTSTART:20260308T030000
TZNAME:CDT
TZOFFSETFROM:-0600
TZOFFSETTO:-0500
END:DAYLIGHT
END:VTIMEZONE
END:VCALENDAR
