BEGIN:VCALENDAR
VERSION:2.0
PRODID:-//Plone.org//NONSGML plone.app.event//EN
X-WR-TIMEZONE:US/Central
BEGIN:VEVENT
SUMMARY:Youth Craft @ Rogersville
DTSTART;TZID=US/Central:20250730T110000
DTEND;TZID=US/Central:20250730T120000
DTSTAMP:20260419T223549Z
UID:ca4b5a89c0df40ef8fa45ef8d91631e6@saas_stack_varnish:6080
ATTENDEE;CN="Ages 6 - 12";ROLE=REQ-PARTICIPANT:Ages 6 - 12
CATEGORIES:Rogersville Branch,Rogersville Youth,Rogersville Summer Event
CONTACT:Caroline\, 417-753-3220\, roginfo@webstercountylibrary.org
CREATED:20250528T200817Z
LAST-MODIFIED:20250624T151856Z
LOCATION:Webster County Library - Rogersville Branch 104 N Beatie St
URL:https://webster.ploud.net/calendar-news/events/youth-craft-rogersville
 -6
END:VEVENT
BEGIN:VTIMEZONE
TZID:US/Central
X-LIC-LOCATION:US/Central
BEGIN:DAYLIGHT
DTSTART:20250309T030000
TZNAME:CDT
TZOFFSETFROM:-0600
TZOFFSETTO:-0500
END:DAYLIGHT
END:VTIMEZONE
END:VCALENDAR
