BEGIN:VCALENDAR
VERSION:2.0
PRODID:-//Plone.org//NONSGML plone.app.event//EN
X-WR-TIMEZONE:US/Central
BEGIN:VEVENT
SUMMARY:WCL Board of Trustees Meeting
DTSTART;TZID=US/Central:20241220T160000
DTEND;TZID=US/Central:20241220T170000
DTSTAMP:20260420T195536Z
UID:8fafe821c44549ad8ea56532cb63b0d9@saas_stack_varnish:6080
CONTACT:Terri York\, 417-468-3335\, marinfo@webstercountylibrary.org
CREATED:20241127T163631Z
DESCRIPTION:Regular monthly meeting of the Library Board of Trustees
LAST-MODIFIED:20241212T210841Z
LOCATION:Webster County Library - Garst Memorial Library 219 W Jackson St.
URL:https://webster.ploud.net/calendar-news/events/wcl-board-of-trustees-m
 eeting-1
END:VEVENT
BEGIN:VTIMEZONE
TZID:US/Central
X-LIC-LOCATION:US/Central
BEGIN:STANDARD
DTSTART:20241103T010000
TZNAME:CST
TZOFFSETFROM:-0500
TZOFFSETTO:-0600
END:STANDARD
END:VTIMEZONE
END:VCALENDAR
