BEGIN:VCALENDAR
VERSION:2.0
PRODID:-//Plone.org//NONSGML plone.app.event//EN
X-WR-TIMEZONE:US/Central
BEGIN:VEVENT
SUMMARY:Thanksgiving: Library Closed
DTSTART;VALUE=DATE:20291122
DTEND;VALUE=DATE:20291124
DTSTAMP:20260419T180232Z
UID:0781de11e6b4453382821c6afa2562dd@saas_stack_varnish:6080
CATEGORIES:closed
CREATED:20241127T171711Z
DESCRIPTION:The Library will be closed for Thanksgiving
LAST-MODIFIED:20241127T171817Z
URL:https://webster.ploud.net/calendar-news/events/thanksgiving-library-cl
 osed-1/2029-11-22
END:VEVENT
END:VCALENDAR
