BEGIN:VCALENDAR
VERSION:2.0
PRODID:-//Plone.org//NONSGML plone.app.event//EN
X-WR-TIMEZONE:US/Central
BEGIN:VEVENT
SUMMARY:Teens Craft @ Marshfield
DTSTART;TZID=US/Central:20240416T100000
DTEND;TZID=US/Central:20240416T170000
DTSTAMP:20260420T014732Z
UID:ff18f86608e64583abacf2a50a3a1332@saas_stack_varnish:6080
ATTENDEE;CN="Grades 6th - 12th";ROLE=REQ-PARTICIPANT:Grades 6th - 12th
CATEGORIES:Marshfield Location,Marshfield Teen
CONTACT:Leah\, 417-468-3335\, marinfo@webstercountylibrary.org
CREATED:20240319T165127Z
LAST-MODIFIED:20240319T165205Z
LOCATION:Webster County Library - Garst Memorial Library 219 W Jackson St
URL:https://webster.ploud.net/calendar-news/events/teens-craft-marshfield
END:VEVENT
BEGIN:VTIMEZONE
TZID:US/Central
X-LIC-LOCATION:US/Central
BEGIN:DAYLIGHT
DTSTART:20240310T030000
TZNAME:CDT
TZOFFSETFROM:-0600
TZOFFSETTO:-0500
END:DAYLIGHT
END:VTIMEZONE
END:VCALENDAR
