BEGIN:VCALENDAR
VERSION:2.0
PRODID:-//Plone.org//NONSGML plone.app.event//EN
X-WR-TIMEZONE:US/Central
BEGIN:VEVENT
SUMMARY:Teens Craft @ Marshfield
DTSTART;TZID=US/Central:20240509T100000
DTEND;TZID=US/Central:20240509T110000
DTSTAMP:20260422T090256Z
UID:b6398ed6cb5f4f4a874d6dbdb4bcae08@saas_stack_varnish:6080
ATTENDEE;CN="Grades 6th - 12th";ROLE=REQ-PARTICIPANT:Grades 6th - 12th
CATEGORIES:Marshfield Location,Marshfield Teen
CONTACT:Leah\, 417-468-3335\, marinfo@webstercountylibrary.org
CREATED:20240329T165457Z
LAST-MODIFIED:20240410T193157Z
LOCATION:Webster County Library - Garst Memorial Library 219 W Jackson St
URL:https://webster.ploud.net/calendar-news/events/teens-craft-marshfield-
 1
END:VEVENT
BEGIN:VTIMEZONE
TZID:US/Central
X-LIC-LOCATION:US/Central
BEGIN:DAYLIGHT
DTSTART:20240310T030000
TZNAME:CDT
TZOFFSETFROM:-0600
TZOFFSETTO:-0500
END:DAYLIGHT
END:VTIMEZONE
END:VCALENDAR
