BEGIN:VCALENDAR
VERSION:2.0
PRODID:-//Plone.org//NONSGML plone.app.event//EN
X-WR-TIMEZONE:US/Central
BEGIN:VEVENT
SUMMARY:Teen Silhouette Self Portraits @ Rogersville
DTSTART;TZID=US/Central:20250626T140000
DTEND;TZID=US/Central:20250626T150000
DTSTAMP:20260419T224035Z
UID:19670ab9ba1742a09c2b01c8a0719f76@saas_stack_varnish:6080
ATTENDEE;CN="Ages 13 and up ";ROLE=REQ-PARTICIPANT:Ages 13 and up 
CATEGORIES:Rogersville Branch,Rogersville Youth,Rogersville Summer Event
CONTACT:Caroline\, 417-753-3220\, roginfo@webstercountylibrary.org
CREATED:20250507T210237Z
LAST-MODIFIED:20250520T212650Z
LOCATION:Webster County Library - Rogersville Branch 104 N Beatie St.
URL:https://webster.ploud.net/calendar-news/events/teen-silhouette-self-po
 rtraits-rogersville
END:VEVENT
BEGIN:VTIMEZONE
TZID:US/Central
X-LIC-LOCATION:US/Central
BEGIN:DAYLIGHT
DTSTART:20250309T030000
TZNAME:CDT
TZOFFSETFROM:-0600
TZOFFSETTO:-0500
END:DAYLIGHT
END:VTIMEZONE
END:VCALENDAR
