BEGIN:VCALENDAR
VERSION:2.0
PRODID:-//Plone.org//NONSGML plone.app.event//EN
X-WR-TIMEZONE:US/Central
BEGIN:VEVENT
SUMMARY:Teen Crochet @ Rogersville
DTSTART;TZID=US/Central:20250710T140000
DTEND;TZID=US/Central:20250710T150000
DTSTAMP:20260419T223857Z
UID:dbf740d7bffb4b09bc2f37e9254466f3@saas_stack_varnish:6080
ATTENDEE;CN="Ages 13 - 17";ROLE=REQ-PARTICIPANT:Ages 13 - 17
CATEGORIES:Rogersville Branch,Rogersville Summer Event,Rogersville Youth
CONTACT:Caroline\, 417-753-3220\, roginfo@webstercountylibrary.org
CREATED:20250523T204111Z
LAST-MODIFIED:20250624T151041Z
LOCATION:Webster County Library - Rogersville Branch 104 N Beatie St.
URL:https://webster.ploud.net/calendar-news/events/teen-crochet-rogersvill
 e
END:VEVENT
BEGIN:VTIMEZONE
TZID:US/Central
X-LIC-LOCATION:US/Central
BEGIN:DAYLIGHT
DTSTART:20250309T030000
TZNAME:CDT
TZOFFSETFROM:-0600
TZOFFSETTO:-0500
END:DAYLIGHT
END:VTIMEZONE
END:VCALENDAR
