BEGIN:VCALENDAR
VERSION:2.0
PRODID:-//Plone.org//NONSGML plone.app.event//EN
X-WR-TIMEZONE:US/Central
BEGIN:VEVENT
SUMMARY:Teen Craft @ Marshfield
DTSTART;TZID=US/Central:20240104T100000
DTEND;TZID=US/Central:20240104T170000
DTSTAMP:20260420T014810Z
UID:42359d7945064ad09598b64d3ce045f5@saas_stack_varnish:6080
ATTENDEE;CN="Ages 13 - 17";ROLE=REQ-PARTICIPANT:Ages 13 - 17
CATEGORIES:Marshfield Location,Marshfield Teen
CONTACT:Leah\, 417-468-3335\, marinfo@webstercountylibrary.org
CREATED:20231228T223056Z
LAST-MODIFIED:20231229T163437Z
LOCATION:Webster County Library - Garst Memorial Library 219 W Jackson St.
URL:https://webster.ploud.net/calendar-news/events/teen-craft-marshfield
END:VEVENT
BEGIN:VTIMEZONE
TZID:US/Central
X-LIC-LOCATION:US/Central
BEGIN:STANDARD
DTSTART:20231105T010000
TZNAME:CST
TZOFFSETFROM:-0500
TZOFFSETTO:-0600
END:STANDARD
END:VTIMEZONE
END:VCALENDAR
