BEGIN:VCALENDAR
VERSION:2.0
PRODID:-//Plone.org//NONSGML plone.app.event//EN
X-WR-TIMEZONE:US/Central
BEGIN:VEVENT
SUMMARY:STEAM! @ Rogersville
DTSTART;TZID=US/Central:20250602T160000
DTEND;TZID=US/Central:20250602T170000
DTSTAMP:20260419T223312Z
UID:94a332191ef44b0e924bc12cf55dbc48@saas_stack_varnish:6080
ATTENDEE;CN="Ages 8 and up";ROLE=REQ-PARTICIPANT:Ages 8 and up
CATEGORIES:Rogersville Branch,Rogersville Youth,Rogersville Summer Event
CONTACT:Caroline\, 417-753-3220\, roginfo@webstercountylibrary.org
CREATED:20250506T172700Z
LAST-MODIFIED:20250520T211525Z
LOCATION:Webster County Library - Rogersville Branch 104 N Beatie St.
URL:https://webster.ploud.net/calendar-news/events/steam-rogersville
END:VEVENT
BEGIN:VTIMEZONE
TZID:US/Central
X-LIC-LOCATION:US/Central
BEGIN:DAYLIGHT
DTSTART:20250309T030000
TZNAME:CDT
TZOFFSETFROM:-0600
TZOFFSETTO:-0500
END:DAYLIGHT
END:VTIMEZONE
END:VCALENDAR
