BEGIN:VCALENDAR
VERSION:2.0
PRODID:-//Plone.org//NONSGML plone.app.event//EN
X-WR-TIMEZONE:US/Central
BEGIN:VEVENT
SUMMARY:STEAM! @ Rogersville
DTSTART;TZID=US/Central:20250630T160000
DTEND;TZID=US/Central:20250630T170000
DTSTAMP:20260419T223416Z
UID:dd0bccc7be124efda8da176862aaea00@saas_stack_varnish:6080
ATTENDEE;CN="Ages 8 and up";ROLE=REQ-PARTICIPANT:Ages 8 and up
CATEGORIES:Rogersville Branch,Rogersville Summer Event,Rogersville Youth
CONTACT:Caroline\, 417-753-3220\, roginfo@webstercountylibrary.org
CREATED:20250516T135124Z
LAST-MODIFIED:20250520T212737Z
LOCATION:Webster County Library - Rogersville Branch 104 N Beatie St
URL:https://webster.ploud.net/calendar-news/events/steam-rogersville-2
END:VEVENT
BEGIN:VTIMEZONE
TZID:US/Central
X-LIC-LOCATION:US/Central
BEGIN:DAYLIGHT
DTSTART:20250309T030000
TZNAME:CDT
TZOFFSETFROM:-0600
TZOFFSETTO:-0500
END:DAYLIGHT
END:VTIMEZONE
END:VCALENDAR
