BEGIN:VCALENDAR
VERSION:2.0
PRODID:-//Plone.org//NONSGML plone.app.event//EN
X-WR-TIMEZONE:US/Central
BEGIN:VEVENT
SUMMARY:President's Day: Library Closed
DTSTART;VALUE=DATE:20310217
DTEND;VALUE=DATE:20310218
DTSTAMP:20260419T175840Z
UID:1240538b316947cb90b8dcea01253e3f@saas_stack_varnish:6080
CATEGORIES:closed
CREATED:20241127T170137Z
DESCRIPTION:The Library will be closed in observance of President's Day
LAST-MODIFIED:20241127T170152Z
URL:https://webster.ploud.net/calendar-news/events/presidents-day-library-
 closed-1/2031-02-17
END:VEVENT
END:VCALENDAR
