BEGIN:VCALENDAR
VERSION:2.0
PRODID:-//Plone.org//NONSGML plone.app.event//EN
X-WR-TIMEZONE:US/Central
BEGIN:VEVENT
SUMMARY:Library Public Tax Rate Hearing
DTSTART;TZID=US/Central:20230822T171500
DTEND;TZID=US/Central:20230822T173000
DTSTAMP:20260420T003737Z
UID:53cd83fb4cf14116abb6a96887129986@saas_stack_varnish:6080
CONTACT:Terri York\, 417-468-3335\, marinfo@webstercountylibrary.org
CREATED:20230811T154955Z
LAST-MODIFIED:20230816T144701Z
LOCATION:Garst Memorial Library\, 219 W Jackson St\, Marshfield\, MO 65706
URL:https://webster.ploud.net/calendar-news/events/library-public-tax-rate
 -hearing
END:VEVENT
BEGIN:VTIMEZONE
TZID:US/Central
X-LIC-LOCATION:US/Central
BEGIN:DAYLIGHT
DTSTART:20230312T030000
TZNAME:CDT
TZOFFSETFROM:-0600
TZOFFSETTO:-0500
END:DAYLIGHT
END:VTIMEZONE
END:VCALENDAR
