BEGIN:VCALENDAR
VERSION:2.0
PRODID:-//Plone.org//NONSGML plone.app.event//EN
X-WR-TIMEZONE:US/Central
BEGIN:VEVENT
SUMMARY:Labor Day: Library Closed
DTSTART;VALUE=DATE:20280904
DTEND;VALUE=DATE:20280905
DTSTAMP:20260419T175619Z
UID:8bdb7c00fe244383b9dfcb9c23aa86a9@saas_stack_varnish:6080
CATEGORIES:closed
CREATED:20241127T171142Z
DESCRIPTION:The Library will be closed in observance of Labor Day
LAST-MODIFIED:20241127T171155Z
URL:https://webster.ploud.net/calendar-news/events/labor-day-library-close
 d-1/2028-09-04
END:VEVENT
END:VCALENDAR
