BEGIN:VCALENDAR
VERSION:2.0
PRODID:-//Plone.org//NONSGML plone.app.event//EN
X-WR-TIMEZONE:US/Central
BEGIN:VEVENT
SUMMARY:Kid Craft @ Rogersville
DTSTART;TZID=US/Central:20260128T110000
DTEND;TZID=US/Central:20260128T120000
DTSTAMP:20260419T211021Z
UID:d307ebc2873d47f48bd198c8f94361d8@saas_stack_varnish:6080
ATTENDEE;CN="Ages 6+";ROLE=REQ-PARTICIPANT:Ages 6+
CATEGORIES:Rogersville Branch,Rogersville Youth
CONTACT:Caroline\, 417-753-3220\, roginfo@webstercountylibrary.org
CREATED:20251219T200153Z
LAST-MODIFIED:20260327T194735Z
LOCATION:Webster County Library - Rogersville Branch 104 N Beatie St
URL:https://webster.ploud.net/calendar-news/events/kid-craft-rogersville-7
 /2026-01-28
END:VEVENT
BEGIN:VTIMEZONE
TZID:US/Central
X-LIC-LOCATION:US/Central
BEGIN:STANDARD
DTSTART:20251102T010000
TZNAME:CST
TZOFFSETFROM:-0500
TZOFFSETTO:-0600
END:STANDARD
END:VTIMEZONE
END:VCALENDAR
