BEGIN:VCALENDAR
VERSION:2.0
PRODID:-//Plone.org//NONSGML plone.app.event//EN
X-WR-TIMEZONE:US/Central
BEGIN:VEVENT
SUMMARY:Hands-Only CPR Training @ Marshfield
DTSTART;TZID=US/Central:20240906T100000
DTEND;TZID=US/Central:20240906T113000
DTSTAMP:20260420T183036Z
UID:c418cb3ee9aa47bda31433f27405d3f6@saas_stack_varnish:6080
CONTACT:Library Staff\, 417-468-3335\, marinfo@webstercountylibrary.org
CREATED:20240827T193924Z
LAST-MODIFIED:20240830T171128Z
LOCATION:Webster County Library - Garst Memorial Library 219 W Jackson St
URL:https://webster.ploud.net/calendar-news/events/hands-only-cpr-training
 -marshfield
END:VEVENT
BEGIN:VTIMEZONE
TZID:US/Central
X-LIC-LOCATION:US/Central
BEGIN:DAYLIGHT
DTSTART:20240310T030000
TZNAME:CDT
TZOFFSETFROM:-0600
TZOFFSETTO:-0500
END:DAYLIGHT
END:VTIMEZONE
END:VCALENDAR
