BEGIN:VCALENDAR
VERSION:2.0
PRODID:-//Plone.org//NONSGML plone.app.event//EN
X-WR-TIMEZONE:US/Central
BEGIN:VEVENT
SUMMARY:Friends of the Library Book Sale @ Rogersville
DTSTART;VALUE=DATE:20250606
DTEND;VALUE=DATE:20250608
DTSTAMP:20260419T224524Z
UID:c72d0bfc7c2d471085a7686d3de81d36@saas_stack_varnish:6080
ATTENDEE;CN="All Ages";ROLE=REQ-PARTICIPANT:All Ages
CATEGORIES:Rogersville Branch,Rogersville Summer Event
CONTACT:Caroline\, 417-753-3220\, roginfo@webstercountylibrary.org
CREATED:20250521T164129Z
LAST-MODIFIED:20250521T164146Z
LOCATION:Webster County Library - Rogersville Branch 104 N Beatie St.
URL:https://webster.ploud.net/calendar-news/events/friends-of-the-library-
 book-sale-rogersville
END:VEVENT
END:VCALENDAR
