BEGIN:VCALENDAR
VERSION:2.0
PRODID:-//Plone.org//NONSGML plone.app.event//EN
X-WR-TIMEZONE:US/Central
BEGIN:VEVENT
SUMMARY:Columbus Day: Library Closed
DTSTART;VALUE=DATE:20271011
DTEND;VALUE=DATE:20271012
DTSTAMP:20260419T193918Z
UID:2914e8cbe9e744e8a8fddf6b42a299ba@saas_stack_varnish:6080
CATEGORIES:closed
CREATED:20241127T171430Z
DESCRIPTION:The Library will be closed in observance of Columbus Day
LAST-MODIFIED:20241127T171446Z
URL:https://webster.ploud.net/calendar-news/events/columbus-day-library-cl
 osed-1/2027-10-11
END:VEVENT
END:VCALENDAR
