BEGIN:VCALENDAR
VERSION:2.0
PRODID:-//Plone.org//NONSGML plone.app.event//EN
X-WR-TIMEZONE:US/Central
BEGIN:VEVENT
SUMMARY:Adult Inclusion Craft @ Marshfield
DTSTART;TZID=US/Central:20250121T100000
DTEND;TZID=US/Central:20250121T110000
DTSTAMP:20260419T210152Z
UID:f72eda8e57b54a5097e45e32e22d1828@saas_stack_varnish:6080
ATTENDEE;CN="Adults 18+ Only";ROLE=REQ-PARTICIPANT:Adults 18+ Only
CATEGORIES:Marshfield Location,Marshfield Adult
CONTACT:Marshfield Staff\, 417-468-3335\, marinfo@webstercountylibrary.org
CREATED:20241210T221349Z
LAST-MODIFIED:20241213T182355Z
LOCATION:Webster County Library - Garst Memorial Library 219 W Jackson St.
URL:https://webster.ploud.net/calendar-news/events/adult-inclusion-craft-m
 arshfield-5
END:VEVENT
BEGIN:VTIMEZONE
TZID:US/Central
X-LIC-LOCATION:US/Central
BEGIN:STANDARD
DTSTART:20241103T010000
TZNAME:CST
TZOFFSETFROM:-0500
TZOFFSETTO:-0600
END:STANDARD
END:VTIMEZONE
END:VCALENDAR
