BEGIN:VCALENDAR
VERSION:2.0
PRODID:-//Plone.org//NONSGML plone.app.event//EN
X-WR-TIMEZONE:US/Central
BEGIN:VEVENT
SUMMARY:Adult Craft @ Rogersville
DTSTART;TZID=US/Central:20251007T130000
DTEND;TZID=US/Central:20251007T140000
DTSTAMP:20260419T223857Z
UID:e77dbc119f2d4c5aa7f1df4c74c930bb@saas_stack_varnish:6080
ATTENDEE;CN="Adults 18+";ROLE=REQ-PARTICIPANT:Adults 18+
CATEGORIES:Rogersville Adult,Rogersville Branch
CONTACT:Caroline\, 417-753-3220\, roginfo@webstercountylibrary.org
CREATED:20250917T151904Z
LAST-MODIFIED:20250923T180930Z
LOCATION:Webster County Library - Rogersville Branch 104 N Beatie St
URL:https://webster.ploud.net/calendar-news/events/adult-craft-rogersville
 -8
END:VEVENT
BEGIN:VTIMEZONE
TZID:US/Central
X-LIC-LOCATION:US/Central
BEGIN:DAYLIGHT
DTSTART:20250309T030000
TZNAME:CDT
TZOFFSETFROM:-0600
TZOFFSETTO:-0500
END:DAYLIGHT
END:VTIMEZONE
END:VCALENDAR
